BEGIN:VCALENDAR
VERSION:2.0
PRODID:-//Cedar Grove Bocce//cgbocce.org//EN
CALSCALE:GREGORIAN
METHOD:PUBLISH
X-WR-CALNAME:Team 20 - Vitale – Bocce Schedule
X-WR-CALDESC:Cedar Grove Bocce League schedule
X-PUBLISHED-TTL:PT1H
BEGIN:VEVENT
UID:bocce-match-cmoa33yzx00a0jxbdqwlhfve2@cgbocce.org
DTSTAMP:20260422T132432Z
DTSTART:20260505T183000
DTEND:20260505T203000
SUMMARY:CG Bocce: Team 3 - Brown vs Team 20 - Vitale
DESCRIPTION:Court: Court 3\nStatus: SCHEDULED
LOCATION:Court 3
STATUS:CONFIRMED
END:VEVENT
BEGIN:VEVENT
UID:bocce-match-cmoa33yzx00aijxbdjeheskuv@cgbocce.org
DTSTAMP:20260422T132432Z
DTSTART:20260514T183000
DTEND:20260514T203000
SUMMARY:CG Bocce: Team 1 - Balassone vs Team 20 - Vitale
DESCRIPTION:Court: Court 3\nStatus: SCHEDULED
LOCATION:Court 3
STATUS:CONFIRMED
END:VEVENT
BEGIN:VEVENT
UID:bocce-match-cmoa33yzx00atjxbd24xkcb90@cgbocce.org
DTSTAMP:20260422T132432Z
DTSTART:20260521T183000
DTEND:20260521T203000
SUMMARY:CG Bocce: Team 20 - Vitale vs Team 18 - Stolz
DESCRIPTION:Court: Court 2\nStatus: SCHEDULED
LOCATION:Court 2
STATUS:CONFIRMED
END:VEVENT
BEGIN:VEVENT
UID:bocce-match-cmoa33yzx00b2jxbdgt4joqd9@cgbocce.org
DTSTAMP:20260422T132432Z
DTSTART:20260528T183000
DTEND:20260528T203000
SUMMARY:CG Bocce: Team 20 - Vitale vs Team 16 - Ring
DESCRIPTION:Court: Court 2\nStatus: SCHEDULED
LOCATION:Court 2
STATUS:CONFIRMED
END:VEVENT
BEGIN:VEVENT
UID:bocce-match-cmoa33yzx00bejxbdjsxltv33@cgbocce.org
DTSTAMP:20260422T132432Z
DTSTART:20260604T183000
DTEND:20260604T203000
SUMMARY:CG Bocce: Team 20 - Vitale vs Team 14 - Mongiello
DESCRIPTION:Court: Court 2\nStatus: SCHEDULED
LOCATION:Court 2
STATUS:CONFIRMED
END:VEVENT
BEGIN:VEVENT
UID:bocce-match-cmoa33yzx00brjxbds085l7vq@cgbocce.org
DTSTAMP:20260422T132432Z
DTSTART:20260611T183000
DTEND:20260611T203000
SUMMARY:CG Bocce: Team 20 - Vitale vs Team 12 - Marzullo
DESCRIPTION:Court: Court 3\nStatus: SCHEDULED
LOCATION:Court 3
STATUS:CONFIRMED
END:VEVENT
BEGIN:VEVENT
UID:bocce-match-cmoa33yzy00bxjxbdcyqem93y@cgbocce.org
DTSTAMP:20260422T132432Z
DTSTART:20260616T183000
DTEND:20260616T203000
SUMMARY:CG Bocce: Team 20 - Vitale vs Team 10 - Horris
DESCRIPTION:Court: Court 3\nStatus: SCHEDULED
LOCATION:Court 3
STATUS:CONFIRMED
END:VEVENT
BEGIN:VEVENT
UID:bocce-match-cmoa33yzy00ccjxbd2hkjbr0w@cgbocce.org
DTSTAMP:20260422T132432Z
DTSTART:20260624T183000
DTEND:20260624T203000
SUMMARY:CG Bocce: Team 20 - Vitale vs Team 8 - Gabriele
DESCRIPTION:Court: Court 3\nStatus: SCHEDULED
LOCATION:Court 3
STATUS:CONFIRMED
END:VEVENT
BEGIN:VEVENT
UID:bocce-match-cmoa33yzy00cnjxbd78c88xiu@cgbocce.org
DTSTAMP:20260422T132432Z
DTSTART:20260701T183000
DTEND:20260701T203000
SUMMARY:CG Bocce: Team 20 - Vitale vs Team 6 - Criscione
DESCRIPTION:Court: Court 2\nStatus: SCHEDULED
LOCATION:Court 2
STATUS:CONFIRMED
END:VEVENT
BEGIN:VEVENT
UID:bocce-match-cmoa33yzy00cqjxbdstaadiwz@cgbocce.org
DTSTAMP:20260422T132432Z
DTSTART:20260702T183000
DTEND:20260702T203000
SUMMARY:CG Bocce: Team 20 - Vitale vs Team 4 - Cammarata
DESCRIPTION:Court: Court 2\nStatus: SCHEDULED
LOCATION:Court 2
STATUS:CONFIRMED
END:VEVENT
BEGIN:VEVENT
UID:bocce-match-cmoa33yzy00d2jxbdl7hpylwy@cgbocce.org
DTSTAMP:20260422T132432Z
DTSTART:20260709T183000
DTEND:20260709T203000
SUMMARY:CG Bocce: Team 20 - Vitale vs Team 2 - Beauchamp
DESCRIPTION:Court: Court 2\nStatus: SCHEDULED
LOCATION:Court 2
STATUS:CONFIRMED
END:VEVENT
BEGIN:VEVENT
UID:bocce-match-cmoa33yzy00ddjxbdqbn8l27w@cgbocce.org
DTSTAMP:20260422T132432Z
DTSTART:20260716T183000
DTEND:20260716T203000
SUMMARY:CG Bocce: Team 20 - Vitale vs Team 21 - Zichelli
DESCRIPTION:Court: Court 1\nStatus: SCHEDULED
LOCATION:Court 1
STATUS:CONFIRMED
END:VEVENT
BEGIN:VEVENT
UID:bocce-match-cmoa33yzy00dnjxbdjsvfbr60@cgbocce.org
DTSTAMP:20260422T132432Z
DTSTART:20260722T183000
DTEND:20260722T203000
SUMMARY:CG Bocce: Team 19 - Sullivan vs Team 20 - Vitale
DESCRIPTION:Court: Court 2\nStatus: SCHEDULED
LOCATION:Court 2
STATUS:CONFIRMED
END:VEVENT
BEGIN:VEVENT
UID:bocce-match-cmoa33yzy00e2jxbdykndafpj@cgbocce.org
DTSTAMP:20260422T132432Z
DTSTART:20260730T183000
DTEND:20260730T203000
SUMMARY:CG Bocce: Team 17 - Romaine vs Team 20 - Vitale
DESCRIPTION:Court: Court 2\nStatus: SCHEDULED
LOCATION:Court 2
STATUS:CONFIRMED
END:VEVENT
BEGIN:VEVENT
UID:bocce-match-cmoa33yzy00ebjxbdwwtqdhii@cgbocce.org
DTSTAMP:20260422T132432Z
DTSTART:20260805T183000
DTEND:20260805T203000
SUMMARY:CG Bocce: Team 15 - Pennisi vs Team 20 - Vitale
DESCRIPTION:Court: Court 2\nStatus: SCHEDULED
LOCATION:Court 2
STATUS:CONFIRMED
END:VEVENT
BEGIN:VEVENT
UID:bocce-match-cmoa33yzy00eejxbde4crblcv@cgbocce.org
DTSTAMP:20260422T132432Z
DTSTART:20260806T183000
DTEND:20260806T203000
SUMMARY:CG Bocce: Team 13 - Meola vs Team 20 - Vitale
DESCRIPTION:Court: Court 2\nStatus: SCHEDULED
LOCATION:Court 2
STATUS:CONFIRMED
END:VEVENT
BEGIN:VEVENT
UID:bocce-match-cmoa33yzz00erjxbd11ono2hg@cgbocce.org
DTSTAMP:20260422T132432Z
DTSTART:20260813T183000
DTEND:20260813T203000
SUMMARY:CG Bocce: Team 11 - Maffettone vs Team 20 - Vitale
DESCRIPTION:Court: Court 3\nStatus: SCHEDULED
LOCATION:Court 3
STATUS:CONFIRMED
END:VEVENT
BEGIN:VEVENT
UID:bocce-match-cmoa33yzz00ezjxbdhpara81g@cgbocce.org
DTSTAMP:20260422T132432Z
DTSTART:20260819T183000
DTEND:20260819T203000
SUMMARY:CG Bocce: Team 9 - Handel vs Team 20 - Vitale
DESCRIPTION:Court: Court 2\nStatus: SCHEDULED
LOCATION:Court 2
STATUS:CONFIRMED
END:VEVENT
BEGIN:VEVENT
UID:bocce-match-cmoa33yzz00fdjxbd41bjiekf@cgbocce.org
DTSTAMP:20260422T132432Z
DTSTART:20260827T183000
DTEND:20260827T203000
SUMMARY:CG Bocce: Team 7 - Dye vs Team 20 - Vitale
DESCRIPTION:Court: Court 1\nStatus: SCHEDULED
LOCATION:Court 1
STATUS:CONFIRMED
END:VEVENT
BEGIN:VEVENT
UID:bocce-match-cmoa33yzz00fijxbdsc6ezx0r@cgbocce.org
DTSTAMP:20260422T132432Z
DTSTART:20260831T183000
DTEND:20260831T203000
SUMMARY:CG Bocce: Team 5 - Colistra vs Team 20 - Vitale
DESCRIPTION:Court: Court 3\nStatus: SCHEDULED
LOCATION:Court 3
STATUS:CONFIRMED
END:VEVENT
END:VCALENDAR
