BEGIN:VCALENDAR
VERSION:2.0
PRODID:-//Cedar Grove Bocce//cgbocce.org//EN
CALSCALE:GREGORIAN
METHOD:PUBLISH
X-WR-CALNAME:Team 18 - Stolz – Bocce Schedule
X-WR-CALDESC:Cedar Grove Bocce League schedule
X-PUBLISHED-TTL:PT1H
BEGIN:VEVENT
UID:bocce-match-cmoa33yzx00a1jxbd8e5qxii4@cgbocce.org
DTSTAMP:20260422T132432Z
DTSTART:20260506T183000
DTEND:20260506T203000
SUMMARY:CG Bocce: Team 5 - Colistra vs Team 18 - Stolz
DESCRIPTION:Court: Court 1\nStatus: SCHEDULED
LOCATION:Court 1
STATUS:CONFIRMED
END:VEVENT
BEGIN:VEVENT
UID:bocce-match-cmoa33yzx00aajxbd2zousxhh@cgbocce.org
DTSTAMP:20260422T132432Z
DTSTART:20260512T183000
DTEND:20260512T203000
SUMMARY:CG Bocce: Team 3 - Brown vs Team 18 - Stolz
DESCRIPTION:Court: Court 1\nStatus: SCHEDULED
LOCATION:Court 1
STATUS:CONFIRMED
END:VEVENT
BEGIN:VEVENT
UID:bocce-match-cmoa33yzx00atjxbd24xkcb90@cgbocce.org
DTSTAMP:20260422T132432Z
DTSTART:20260521T183000
DTEND:20260521T203000
SUMMARY:CG Bocce: Team 20 - Vitale vs Team 18 - Stolz
DESCRIPTION:Court: Court 2\nStatus: SCHEDULED
LOCATION:Court 2
STATUS:CONFIRMED
END:VEVENT
BEGIN:VEVENT
UID:bocce-match-cmoa33yzx00b3jxbdclyuowgi@cgbocce.org
DTSTAMP:20260422T132432Z
DTSTART:20260528T183000
DTEND:20260528T203000
SUMMARY:CG Bocce: Team 1 - Balassone vs Team 18 - Stolz
DESCRIPTION:Court: Court 3\nStatus: SCHEDULED
LOCATION:Court 3
STATUS:CONFIRMED
END:VEVENT
BEGIN:VEVENT
UID:bocce-match-cmoa33yzx00bcjxbd3h1kdkz1@cgbocce.org
DTSTAMP:20260422T132432Z
DTSTART:20260603T183000
DTEND:20260603T203000
SUMMARY:CG Bocce: Team 18 - Stolz vs Team 16 - Ring
DESCRIPTION:Court: Court 3\nStatus: SCHEDULED
LOCATION:Court 3
STATUS:CONFIRMED
END:VEVENT
BEGIN:VEVENT
UID:bocce-match-cmoa33yzx00bqjxbdi4tayai7@cgbocce.org
DTSTAMP:20260422T132432Z
DTSTART:20260611T183000
DTEND:20260611T203000
SUMMARY:CG Bocce: Team 18 - Stolz vs Team 14 - Mongiello
DESCRIPTION:Court: Court 2\nStatus: SCHEDULED
LOCATION:Court 2
STATUS:CONFIRMED
END:VEVENT
BEGIN:VEVENT
UID:bocce-match-cmoa33yzy00c1jxbdzqz9b3bx@cgbocce.org
DTSTAMP:20260422T132432Z
DTSTART:20260618T183000
DTEND:20260618T203000
SUMMARY:CG Bocce: Team 18 - Stolz vs Team 12 - Marzullo
DESCRIPTION:Court: Court 1\nStatus: SCHEDULED
LOCATION:Court 1
STATUS:CONFIRMED
END:VEVENT
BEGIN:VEVENT
UID:bocce-match-cmoa33yzy00cajxbdpay8jqdl@cgbocce.org
DTSTAMP:20260422T132432Z
DTSTART:20260624T183000
DTEND:20260624T203000
SUMMARY:CG Bocce: Team 18 - Stolz vs Team 10 - Horris
DESCRIPTION:Court: Court 1\nStatus: SCHEDULED
LOCATION:Court 1
STATUS:CONFIRMED
END:VEVENT
BEGIN:VEVENT
UID:bocce-match-cmoa33yzy00cljxbdjdebfvec@cgbocce.org
DTSTAMP:20260422T132432Z
DTSTART:20260630T183000
DTEND:20260630T203000
SUMMARY:CG Bocce: Team 18 - Stolz vs Team 8 - Gabriele
DESCRIPTION:Court: Court 3\nStatus: SCHEDULED
LOCATION:Court 3
STATUS:CONFIRMED
END:VEVENT
BEGIN:VEVENT
UID:bocce-match-cmoa33yzy00ctjxbd1lm2dqkl@cgbocce.org
DTSTAMP:20260422T132432Z
DTSTART:20260706T183000
DTEND:20260706T203000
SUMMARY:CG Bocce: Team 18 - Stolz vs Team 6 - Criscione
DESCRIPTION:Court: Court 2\nStatus: SCHEDULED
LOCATION:Court 2
STATUS:CONFIRMED
END:VEVENT
BEGIN:VEVENT
UID:bocce-match-cmoa33yzy00d1jxbd989stn3r@cgbocce.org
DTSTAMP:20260422T132432Z
DTSTART:20260709T183000
DTEND:20260709T203000
SUMMARY:CG Bocce: Team 18 - Stolz vs Team 4 - Cammarata
DESCRIPTION:Court: Court 1\nStatus: SCHEDULED
LOCATION:Court 1
STATUS:CONFIRMED
END:VEVENT
BEGIN:VEVENT
UID:bocce-match-cmoa33yzy00dbjxbdq8wyuctp@cgbocce.org
DTSTAMP:20260422T132432Z
DTSTART:20260715T183000
DTEND:20260715T203000
SUMMARY:CG Bocce: Team 18 - Stolz vs Team 2 - Beauchamp
DESCRIPTION:Court: Court 2\nStatus: SCHEDULED
LOCATION:Court 2
STATUS:CONFIRMED
END:VEVENT
BEGIN:VEVENT
UID:bocce-match-cmoa33yzy00dqjxbdind8az9d@cgbocce.org
DTSTAMP:20260422T132432Z
DTSTART:20260723T183000
DTEND:20260723T203000
SUMMARY:CG Bocce: Team 18 - Stolz vs Team 21 - Zichelli
DESCRIPTION:Court: Court 2\nStatus: SCHEDULED
LOCATION:Court 2
STATUS:CONFIRMED
END:VEVENT
BEGIN:VEVENT
UID:bocce-match-cmoa33yzy00e3jxbdv48x3jyo@cgbocce.org
DTSTAMP:20260422T132432Z
DTSTART:20260730T183000
DTEND:20260730T203000
SUMMARY:CG Bocce: Team 18 - Stolz vs Team 19 - Sullivan
DESCRIPTION:Court: Court 3\nStatus: SCHEDULED
LOCATION:Court 3
STATUS:CONFIRMED
END:VEVENT
BEGIN:VEVENT
UID:bocce-match-cmoa33yzy00e8jxbdprcxyxl1@cgbocce.org
DTSTAMP:20260422T132432Z
DTSTART:20260804T183000
DTEND:20260804T203000
SUMMARY:CG Bocce: Team 17 - Romaine vs Team 18 - Stolz
DESCRIPTION:Court: Court 2\nStatus: SCHEDULED
LOCATION:Court 2
STATUS:CONFIRMED
END:VEVENT
BEGIN:VEVENT
UID:bocce-match-cmoa33yzz00efjxbdrkxev0ym@cgbocce.org
DTSTAMP:20260422T132432Z
DTSTART:20260806T183000
DTEND:20260806T203000
SUMMARY:CG Bocce: Team 15 - Pennisi vs Team 18 - Stolz
DESCRIPTION:Court: Court 3\nStatus: SCHEDULED
LOCATION:Court 3
STATUS:CONFIRMED
END:VEVENT
BEGIN:VEVENT
UID:bocce-match-cmoa33yzz00epjxbdjpmxbk5u@cgbocce.org
DTSTAMP:20260422T132432Z
DTSTART:20260813T183000
DTEND:20260813T203000
SUMMARY:CG Bocce: Team 13 - Meola vs Team 18 - Stolz
DESCRIPTION:Court: Court 1\nStatus: SCHEDULED
LOCATION:Court 1
STATUS:CONFIRMED
END:VEVENT
BEGIN:VEVENT
UID:bocce-match-cmoa33yzz00f3jxbdxoc5xgk4@cgbocce.org
DTSTAMP:20260422T132432Z
DTSTART:20260820T183000
DTEND:20260820T203000
SUMMARY:CG Bocce: Team 11 - Maffettone vs Team 18 - Stolz
DESCRIPTION:Court: Court 3\nStatus: SCHEDULED
LOCATION:Court 3
STATUS:CONFIRMED
END:VEVENT
BEGIN:VEVENT
UID:bocce-match-cmoa33yzz00fbjxbdkue99ziq@cgbocce.org
DTSTAMP:20260422T132432Z
DTSTART:20260826T183000
DTEND:20260826T203000
SUMMARY:CG Bocce: Team 9 - Handel vs Team 18 - Stolz
DESCRIPTION:Court: Court 2\nStatus: SCHEDULED
LOCATION:Court 2
STATUS:CONFIRMED
END:VEVENT
BEGIN:VEVENT
UID:bocce-match-cmoa33yzz00fmjxbds75zf2vy@cgbocce.org
DTSTAMP:20260422T132432Z
DTSTART:20260902T183000
DTEND:20260902T203000
SUMMARY:CG Bocce: Team 7 - Dye vs Team 18 - Stolz
DESCRIPTION:Court: Court 1\nStatus: SCHEDULED
LOCATION:Court 1
STATUS:CONFIRMED
END:VEVENT
END:VCALENDAR
