BEGIN:VCALENDAR
VERSION:2.0
PRODID:-//Cedar Grove Bocce//cgbocce.org//EN
CALSCALE:GREGORIAN
METHOD:PUBLISH
X-WR-CALNAME:Team 17 - Romaine – Bocce Schedule
X-WR-CALDESC:Cedar Grove Bocce League schedule
X-PUBLISHED-TTL:PT1H
BEGIN:VEVENT
UID:bocce-match-cmoa33yzx00a2jxbd9jruqhpn@cgbocce.org
DTSTAMP:20260422T132432Z
DTSTART:20260506T183000
DTEND:20260506T203000
SUMMARY:CG Bocce: Team 6 - Criscione vs Team 17 - Romaine
DESCRIPTION:Court: Court 2\nStatus: SCHEDULED
LOCATION:Court 2
STATUS:CONFIRMED
END:VEVENT
BEGIN:VEVENT
UID:bocce-match-cmoa33yzx00abjxbdq65gai4v@cgbocce.org
DTSTAMP:20260422T132432Z
DTSTART:20260512T183000
DTEND:20260512T203000
SUMMARY:CG Bocce: Team 4 - Cammarata vs Team 17 - Romaine
DESCRIPTION:Court: Court 2\nStatus: SCHEDULED
LOCATION:Court 2
STATUS:CONFIRMED
END:VEVENT
BEGIN:VEVENT
UID:bocce-match-cmoa33yzx00arjxbd62ezrtlp@cgbocce.org
DTSTAMP:20260422T132432Z
DTSTART:20260520T183000
DTEND:20260520T203000
SUMMARY:CG Bocce: Team 2 - Beauchamp vs Team 17 - Romaine
DESCRIPTION:Court: Court 3\nStatus: SCHEDULED
LOCATION:Court 3
STATUS:CONFIRMED
END:VEVENT
BEGIN:VEVENT
UID:bocce-match-cmoa33yzx00axjxbdw1yrrkxk@cgbocce.org
DTSTAMP:20260422T132432Z
DTSTART:20260526T183000
DTEND:20260526T203000
SUMMARY:CG Bocce: Team 21 - Zichelli vs Team 17 - Romaine
DESCRIPTION:Court: Court 3\nStatus: SCHEDULED
LOCATION:Court 3
STATUS:CONFIRMED
END:VEVENT
BEGIN:VEVENT
UID:bocce-match-cmoa33yzx00b8jxbdrkfm4f2z@cgbocce.org
DTSTAMP:20260422T132432Z
DTSTART:20260602T183000
DTEND:20260602T203000
SUMMARY:CG Bocce: Team 19 - Sullivan vs Team 17 - Romaine
DESCRIPTION:Court: Court 2\nStatus: SCHEDULED
LOCATION:Court 2
STATUS:CONFIRMED
END:VEVENT
BEGIN:VEVENT
UID:bocce-match-cmoa33yzx00bdjxbdzoqddra4@cgbocce.org
DTSTAMP:20260422T132432Z
DTSTART:20260604T183000
DTEND:20260604T203000
SUMMARY:CG Bocce: Team 1 - Balassone vs Team 17 - Romaine
DESCRIPTION:Court: Court 1\nStatus: SCHEDULED
LOCATION:Court 1
STATUS:CONFIRMED
END:VEVENT
BEGIN:VEVENT
UID:bocce-match-cmoa33yzx00bpjxbdeifqwl6l@cgbocce.org
DTSTAMP:20260422T132432Z
DTSTART:20260611T183000
DTEND:20260611T203000
SUMMARY:CG Bocce: Team 17 - Romaine vs Team 15 - Pennisi
DESCRIPTION:Court: Court 1\nStatus: SCHEDULED
LOCATION:Court 1
STATUS:CONFIRMED
END:VEVENT
BEGIN:VEVENT
UID:bocce-match-cmoa33yzy00bzjxbd7hjstseb@cgbocce.org
DTSTAMP:20260422T132432Z
DTSTART:20260617T183000
DTEND:20260617T203000
SUMMARY:CG Bocce: Team 17 - Romaine vs Team 13 - Meola
DESCRIPTION:Court: Court 2\nStatus: SCHEDULED
LOCATION:Court 2
STATUS:CONFIRMED
END:VEVENT
BEGIN:VEVENT
UID:bocce-match-cmoa33yzy00c9jxbdp4mg9wvl@cgbocce.org
DTSTAMP:20260422T132432Z
DTSTART:20260623T183000
DTEND:20260623T203000
SUMMARY:CG Bocce: Team 17 - Romaine vs Team 11 - Maffettone
DESCRIPTION:Court: Court 3\nStatus: SCHEDULED
LOCATION:Court 3
STATUS:CONFIRMED
END:VEVENT
BEGIN:VEVENT
UID:bocce-match-cmoa33yzy00ckjxbdg2zdy4v1@cgbocce.org
DTSTAMP:20260422T132432Z
DTSTART:20260630T183000
DTEND:20260630T203000
SUMMARY:CG Bocce: Team 17 - Romaine vs Team 9 - Handel
DESCRIPTION:Court: Court 2\nStatus: SCHEDULED
LOCATION:Court 2
STATUS:CONFIRMED
END:VEVENT
BEGIN:VEVENT
UID:bocce-match-cmoa33yzy00csjxbdf31ujrae@cgbocce.org
DTSTAMP:20260422T132432Z
DTSTART:20260706T183000
DTEND:20260706T203000
SUMMARY:CG Bocce: Team 17 - Romaine vs Team 7 - Dye
DESCRIPTION:Court: Court 1\nStatus: SCHEDULED
LOCATION:Court 1
STATUS:CONFIRMED
END:VEVENT
BEGIN:VEVENT
UID:bocce-match-cmoa33yzy00d9jxbd3nnltiun@cgbocce.org
DTSTAMP:20260422T132432Z
DTSTART:20260714T183000
DTEND:20260714T203000
SUMMARY:CG Bocce: Team 17 - Romaine vs Team 5 - Colistra
DESCRIPTION:Court: Court 3\nStatus: SCHEDULED
LOCATION:Court 3
STATUS:CONFIRMED
END:VEVENT
BEGIN:VEVENT
UID:bocce-match-cmoa33yzy00dhjxbdrzrxl581@cgbocce.org
DTSTAMP:20260422T132432Z
DTSTART:20260720T183000
DTEND:20260720T203000
SUMMARY:CG Bocce: Team 17 - Romaine vs Team 3 - Brown
DESCRIPTION:Court: Court 2\nStatus: SCHEDULED
LOCATION:Court 2
STATUS:CONFIRMED
END:VEVENT
BEGIN:VEVENT
UID:bocce-match-cmoa33yzy00e2jxbdykndafpj@cgbocce.org
DTSTAMP:20260422T132432Z
DTSTART:20260730T183000
DTEND:20260730T203000
SUMMARY:CG Bocce: Team 17 - Romaine vs Team 20 - Vitale
DESCRIPTION:Court: Court 2\nStatus: SCHEDULED
LOCATION:Court 2
STATUS:CONFIRMED
END:VEVENT
BEGIN:VEVENT
UID:bocce-match-cmoa33yzy00e8jxbdprcxyxl1@cgbocce.org
DTSTAMP:20260422T132432Z
DTSTART:20260804T183000
DTEND:20260804T203000
SUMMARY:CG Bocce: Team 17 - Romaine vs Team 18 - Stolz
DESCRIPTION:Court: Court 2\nStatus: SCHEDULED
LOCATION:Court 2
STATUS:CONFIRMED
END:VEVENT
BEGIN:VEVENT
UID:bocce-match-cmoa33yzz00eijxbd5j3gmr2g@cgbocce.org
DTSTAMP:20260422T132432Z
DTSTART:20260810T183000
DTEND:20260810T203000
SUMMARY:CG Bocce: Team 16 - Ring vs Team 17 - Romaine
DESCRIPTION:Court: Court 3\nStatus: SCHEDULED
LOCATION:Court 3
STATUS:CONFIRMED
END:VEVENT
BEGIN:VEVENT
UID:bocce-match-cmoa33yzz00eqjxbd4qo4y6a3@cgbocce.org
DTSTAMP:20260422T132432Z
DTSTART:20260813T183000
DTEND:20260813T203000
SUMMARY:CG Bocce: Team 14 - Mongiello vs Team 17 - Romaine
DESCRIPTION:Court: Court 2\nStatus: SCHEDULED
LOCATION:Court 2
STATUS:CONFIRMED
END:VEVENT
BEGIN:VEVENT
UID:bocce-match-cmoa33yzz00eyjxbdt0jyngzk@cgbocce.org
DTSTAMP:20260422T132432Z
DTSTART:20260819T183000
DTEND:20260819T203000
SUMMARY:CG Bocce: Team 12 - Marzullo vs Team 17 - Romaine
DESCRIPTION:Court: Court 1\nStatus: SCHEDULED
LOCATION:Court 1
STATUS:CONFIRMED
END:VEVENT
BEGIN:VEVENT
UID:bocce-match-cmoa33yzz00fcjxbdvfvbbitt@cgbocce.org
DTSTAMP:20260422T132432Z
DTSTART:20260826T183000
DTEND:20260826T203000
SUMMARY:CG Bocce: Team 10 - Horris vs Team 17 - Romaine
DESCRIPTION:Court: Court 3\nStatus: SCHEDULED
LOCATION:Court 3
STATUS:CONFIRMED
END:VEVENT
BEGIN:VEVENT
UID:bocce-match-cmoa33yzz00fnjxbduokrl5i8@cgbocce.org
DTSTAMP:20260422T132432Z
DTSTART:20260902T183000
DTEND:20260902T203000
SUMMARY:CG Bocce: Team 8 - Gabriele vs Team 17 - Romaine
DESCRIPTION:Court: Court 2\nStatus: SCHEDULED
LOCATION:Court 2
STATUS:CONFIRMED
END:VEVENT
END:VCALENDAR
