BEGIN:VCALENDAR
VERSION:2.0
PRODID:-//Cedar Grove Bocce//cgbocce.org//EN
CALSCALE:GREGORIAN
METHOD:PUBLISH
X-WR-CALNAME:Team 14 - Mongiello – Bocce Schedule
X-WR-CALDESC:Cedar Grove Bocce League schedule
X-PUBLISHED-TTL:PT1H
BEGIN:VEVENT
UID:bocce-match-cmoa33yzx00a4jxbd89kyjrw6@cgbocce.org
DTSTAMP:20260422T132432Z
DTSTART:20260507T183000
DTEND:20260507T203000
SUMMARY:CG Bocce: Team 9 - Handel vs Team 14 - Mongiello
DESCRIPTION:Court: Court 1\nStatus: SCHEDULED
LOCATION:Court 1
STATUS:CONFIRMED
END:VEVENT
BEGIN:VEVENT
UID:bocce-match-cmoa33yzx00aejxbdy53zxu2v@cgbocce.org
DTSTAMP:20260422T132432Z
DTSTART:20260513T183000
DTEND:20260513T203000
SUMMARY:CG Bocce: Team 7 - Dye vs Team 14 - Mongiello
DESCRIPTION:Court: Court 2\nStatus: SCHEDULED
LOCATION:Court 2
STATUS:CONFIRMED
END:VEVENT
BEGIN:VEVENT
UID:bocce-match-cmoa33yzx00akjxbdlc5yajz3@cgbocce.org
DTSTAMP:20260422T132432Z
DTSTART:20260518T183000
DTEND:20260518T203000
SUMMARY:CG Bocce: Team 5 - Colistra vs Team 14 - Mongiello
DESCRIPTION:Court: Court 2\nStatus: SCHEDULED
LOCATION:Court 2
STATUS:CONFIRMED
END:VEVENT
BEGIN:VEVENT
UID:bocce-match-cmoa33yzx00avjxbd596dw6s6@cgbocce.org
DTSTAMP:20260422T132432Z
DTSTART:20260526T183000
DTEND:20260526T203000
SUMMARY:CG Bocce: Team 3 - Brown vs Team 14 - Mongiello
DESCRIPTION:Court: Court 1\nStatus: SCHEDULED
LOCATION:Court 1
STATUS:CONFIRMED
END:VEVENT
BEGIN:VEVENT
UID:bocce-match-cmoa33yzx00bejxbdjsxltv33@cgbocce.org
DTSTAMP:20260422T132432Z
DTSTART:20260604T183000
DTEND:20260604T203000
SUMMARY:CG Bocce: Team 20 - Vitale vs Team 14 - Mongiello
DESCRIPTION:Court: Court 2\nStatus: SCHEDULED
LOCATION:Court 2
STATUS:CONFIRMED
END:VEVENT
BEGIN:VEVENT
UID:bocce-match-cmoa33yzx00bqjxbdi4tayai7@cgbocce.org
DTSTAMP:20260422T132432Z
DTSTART:20260611T183000
DTEND:20260611T203000
SUMMARY:CG Bocce: Team 18 - Stolz vs Team 14 - Mongiello
DESCRIPTION:Court: Court 2\nStatus: SCHEDULED
LOCATION:Court 2
STATUS:CONFIRMED
END:VEVENT
BEGIN:VEVENT
UID:bocce-match-cmoa33yzy00bwjxbdffut4d12@cgbocce.org
DTSTAMP:20260422T132432Z
DTSTART:20260616T183000
DTEND:20260616T203000
SUMMARY:CG Bocce: Team 16 - Ring vs Team 14 - Mongiello
DESCRIPTION:Court: Court 2\nStatus: SCHEDULED
LOCATION:Court 2
STATUS:CONFIRMED
END:VEVENT
BEGIN:VEVENT
UID:bocce-match-cmoa33yzy00c6jxbdbjf1s3oh@cgbocce.org
DTSTAMP:20260422T132432Z
DTSTART:20260622T183000
DTEND:20260622T203000
SUMMARY:CG Bocce: Team 1 - Balassone vs Team 14 - Mongiello
DESCRIPTION:Court: Court 3\nStatus: SCHEDULED
LOCATION:Court 3
STATUS:CONFIRMED
END:VEVENT
BEGIN:VEVENT
UID:bocce-match-cmoa33yzy00chjxbdi7ivaslv@cgbocce.org
DTSTAMP:20260422T132432Z
DTSTART:20260629T183000
DTEND:20260629T203000
SUMMARY:CG Bocce: Team 14 - Mongiello vs Team 12 - Marzullo
DESCRIPTION:Court: Court 2\nStatus: SCHEDULED
LOCATION:Court 2
STATUS:CONFIRMED
END:VEVENT
BEGIN:VEVENT
UID:bocce-match-cmoa33yzy00cujxbd5p5k34kv@cgbocce.org
DTSTAMP:20260422T132432Z
DTSTART:20260706T183000
DTEND:20260706T203000
SUMMARY:CG Bocce: Team 14 - Mongiello vs Team 10 - Horris
DESCRIPTION:Court: Court 3\nStatus: SCHEDULED
LOCATION:Court 3
STATUS:CONFIRMED
END:VEVENT
BEGIN:VEVENT
UID:bocce-match-cmoa33yzy00d5jxbdmuqnadx4@cgbocce.org
DTSTAMP:20260422T132432Z
DTSTART:20260713T183000
DTEND:20260713T203000
SUMMARY:CG Bocce: Team 14 - Mongiello vs Team 8 - Gabriele
DESCRIPTION:Court: Court 2\nStatus: SCHEDULED
LOCATION:Court 2
STATUS:CONFIRMED
END:VEVENT
BEGIN:VEVENT
UID:bocce-match-cmoa33yzy00dijxbd59bezspo@cgbocce.org
DTSTAMP:20260422T132432Z
DTSTART:20260720T183000
DTEND:20260720T203000
SUMMARY:CG Bocce: Team 14 - Mongiello vs Team 6 - Criscione
DESCRIPTION:Court: Court 3\nStatus: SCHEDULED
LOCATION:Court 3
STATUS:CONFIRMED
END:VEVENT
BEGIN:VEVENT
UID:bocce-match-cmoa33yzy00dmjxbdzkkscgfc@cgbocce.org
DTSTAMP:20260422T132432Z
DTSTART:20260722T183000
DTEND:20260722T203000
SUMMARY:CG Bocce: Team 14 - Mongiello vs Team 4 - Cammarata
DESCRIPTION:Court: Court 1\nStatus: SCHEDULED
LOCATION:Court 1
STATUS:CONFIRMED
END:VEVENT
BEGIN:VEVENT
UID:bocce-match-cmoa33yzy00e0jxbd71r7arpj@cgbocce.org
DTSTAMP:20260422T132432Z
DTSTART:20260729T183000
DTEND:20260729T203000
SUMMARY:CG Bocce: Team 14 - Mongiello vs Team 2 - Beauchamp
DESCRIPTION:Court: Court 3\nStatus: SCHEDULED
LOCATION:Court 3
STATUS:CONFIRMED
END:VEVENT
BEGIN:VEVENT
UID:bocce-match-cmoa33yzy00eajxbd1yqel5lj@cgbocce.org
DTSTAMP:20260422T132432Z
DTSTART:20260805T183000
DTEND:20260805T203000
SUMMARY:CG Bocce: Team 14 - Mongiello vs Team 21 - Zichelli
DESCRIPTION:Court: Court 1\nStatus: SCHEDULED
LOCATION:Court 1
STATUS:CONFIRMED
END:VEVENT
BEGIN:VEVENT
UID:bocce-match-cmoa33yzz00eljxbdpgm13pc9@cgbocce.org
DTSTAMP:20260422T132432Z
DTSTART:20260811T183000
DTEND:20260811T203000
SUMMARY:CG Bocce: Team 14 - Mongiello vs Team 19 - Sullivan
DESCRIPTION:Court: Court 3\nStatus: SCHEDULED
LOCATION:Court 3
STATUS:CONFIRMED
END:VEVENT
BEGIN:VEVENT
UID:bocce-match-cmoa33yzz00eqjxbd4qo4y6a3@cgbocce.org
DTSTAMP:20260422T132432Z
DTSTART:20260813T183000
DTEND:20260813T203000
SUMMARY:CG Bocce: Team 14 - Mongiello vs Team 17 - Romaine
DESCRIPTION:Court: Court 2\nStatus: SCHEDULED
LOCATION:Court 2
STATUS:CONFIRMED
END:VEVENT
BEGIN:VEVENT
UID:bocce-match-cmoa33yzz00f0jxbd25vx6fz3@cgbocce.org
DTSTAMP:20260422T132432Z
DTSTART:20260819T183000
DTEND:20260819T203000
SUMMARY:CG Bocce: Team 14 - Mongiello vs Team 15 - Pennisi
DESCRIPTION:Court: Court 3\nStatus: SCHEDULED
LOCATION:Court 3
STATUS:CONFIRMED
END:VEVENT
BEGIN:VEVENT
UID:bocce-match-cmoa33yzz00fajxbdgq9xt8je@cgbocce.org
DTSTAMP:20260422T132432Z
DTSTART:20260826T183000
DTEND:20260826T203000
SUMMARY:CG Bocce: Team 13 - Meola vs Team 14 - Mongiello
DESCRIPTION:Court: Court 1\nStatus: SCHEDULED
LOCATION:Court 1
STATUS:CONFIRMED
END:VEVENT
BEGIN:VEVENT
UID:bocce-match-cmoa33yzz00fqjxbd8q2hurcq@cgbocce.org
DTSTAMP:20260422T132432Z
DTSTART:20260903T183000
DTEND:20260903T203000
SUMMARY:CG Bocce: Team 11 - Maffettone vs Team 14 - Mongiello
DESCRIPTION:Court: Court 2\nStatus: SCHEDULED
LOCATION:Court 2
STATUS:CONFIRMED
END:VEVENT
END:VCALENDAR
