BEGIN:VCALENDAR
VERSION:2.0
PRODID:-//Cedar Grove Bocce//cgbocce.org//EN
CALSCALE:GREGORIAN
METHOD:PUBLISH
X-WR-CALNAME:Team 13 - Meola – Bocce Schedule
X-WR-CALDESC:Cedar Grove Bocce League schedule
X-PUBLISHED-TTL:PT1H
BEGIN:VEVENT
UID:bocce-match-cmoa33yzx009zjxbdhdz5v1hv@cgbocce.org
DTSTAMP:20260422T132432Z
DTSTART:20260505T183000
DTEND:20260505T203000
SUMMARY:CG Bocce: Team 10 - Horris vs Team 13 - Meola
DESCRIPTION:Court: Court 2\nStatus: SCHEDULED
LOCATION:Court 2
STATUS:CONFIRMED
END:VEVENT
BEGIN:VEVENT
UID:bocce-match-cmoa33yzx00afjxbdi639aqq9@cgbocce.org
DTSTAMP:20260422T132432Z
DTSTART:20260513T183000
DTEND:20260513T203000
SUMMARY:CG Bocce: Team 8 - Gabriele vs Team 13 - Meola
DESCRIPTION:Court: Court 3\nStatus: SCHEDULED
LOCATION:Court 3
STATUS:CONFIRMED
END:VEVENT
BEGIN:VEVENT
UID:bocce-match-cmoa33yzx00amjxbd9k3tq7m0@cgbocce.org
DTSTAMP:20260422T132432Z
DTSTART:20260519T183000
DTEND:20260519T203000
SUMMARY:CG Bocce: Team 6 - Criscione vs Team 13 - Meola
DESCRIPTION:Court: Court 1\nStatus: SCHEDULED
LOCATION:Court 1
STATUS:CONFIRMED
END:VEVENT
BEGIN:VEVENT
UID:bocce-match-cmoa33yzx00b1jxbdoh50jn79@cgbocce.org
DTSTAMP:20260422T132432Z
DTSTART:20260528T183000
DTEND:20260528T203000
SUMMARY:CG Bocce: Team 4 - Cammarata vs Team 13 - Meola
DESCRIPTION:Court: Court 1\nStatus: SCHEDULED
LOCATION:Court 1
STATUS:CONFIRMED
END:VEVENT
BEGIN:VEVENT
UID:bocce-match-cmoa33yzx00b6jxbdc26y29ws@cgbocce.org
DTSTAMP:20260422T132432Z
DTSTART:20260601T183000
DTEND:20260601T203000
SUMMARY:CG Bocce: Team 2 - Beauchamp vs Team 13 - Meola
DESCRIPTION:Court: Court 3\nStatus: SCHEDULED
LOCATION:Court 3
STATUS:CONFIRMED
END:VEVENT
BEGIN:VEVENT
UID:bocce-match-cmoa33yzx00bfjxbdkvl4pjy7@cgbocce.org
DTSTAMP:20260422T132432Z
DTSTART:20260604T183000
DTEND:20260604T203000
SUMMARY:CG Bocce: Team 21 - Zichelli vs Team 13 - Meola
DESCRIPTION:Court: Court 3\nStatus: SCHEDULED
LOCATION:Court 3
STATUS:CONFIRMED
END:VEVENT
BEGIN:VEVENT
UID:bocce-match-cmoa33yzx00bnjxbd2ubh8mkk@cgbocce.org
DTSTAMP:20260422T132432Z
DTSTART:20260610T183000
DTEND:20260610T203000
SUMMARY:CG Bocce: Team 19 - Sullivan vs Team 13 - Meola
DESCRIPTION:Court: Court 2\nStatus: SCHEDULED
LOCATION:Court 2
STATUS:CONFIRMED
END:VEVENT
BEGIN:VEVENT
UID:bocce-match-cmoa33yzy00bzjxbd7hjstseb@cgbocce.org
DTSTAMP:20260422T132432Z
DTSTART:20260617T183000
DTEND:20260617T203000
SUMMARY:CG Bocce: Team 17 - Romaine vs Team 13 - Meola
DESCRIPTION:Court: Court 2\nStatus: SCHEDULED
LOCATION:Court 2
STATUS:CONFIRMED
END:VEVENT
BEGIN:VEVENT
UID:bocce-match-cmoa33yzy00c7jxbd4lddwh2s@cgbocce.org
DTSTAMP:20260422T132432Z
DTSTART:20260623T183000
DTEND:20260623T203000
SUMMARY:CG Bocce: Team 15 - Pennisi vs Team 13 - Meola
DESCRIPTION:Court: Court 1\nStatus: SCHEDULED
LOCATION:Court 1
STATUS:CONFIRMED
END:VEVENT
BEGIN:VEVENT
UID:bocce-match-cmoa33yzy00cgjxbdusgg0zvw@cgbocce.org
DTSTAMP:20260422T132432Z
DTSTART:20260629T183000
DTEND:20260629T203000
SUMMARY:CG Bocce: Team 1 - Balassone vs Team 13 - Meola
DESCRIPTION:Court: Court 1\nStatus: SCHEDULED
LOCATION:Court 1
STATUS:CONFIRMED
END:VEVENT
BEGIN:VEVENT
UID:bocce-match-cmoa33yzy00crjxbd3ngp1k6s@cgbocce.org
DTSTAMP:20260422T132432Z
DTSTART:20260702T183000
DTEND:20260702T203000
SUMMARY:CG Bocce: Team 13 - Meola vs Team 11 - Maffettone
DESCRIPTION:Court: Court 3\nStatus: SCHEDULED
LOCATION:Court 3
STATUS:CONFIRMED
END:VEVENT
BEGIN:VEVENT
UID:bocce-match-cmoa33yzy00d0jxbdrk99lcv2@cgbocce.org
DTSTAMP:20260422T132432Z
DTSTART:20260708T183000
DTEND:20260708T203000
SUMMARY:CG Bocce: Team 13 - Meola vs Team 9 - Handel
DESCRIPTION:Court: Court 3\nStatus: SCHEDULED
LOCATION:Court 3
STATUS:CONFIRMED
END:VEVENT
BEGIN:VEVENT
UID:bocce-match-cmoa33yzy00dajxbd29xax6jq@cgbocce.org
DTSTAMP:20260422T132432Z
DTSTART:20260715T183000
DTEND:20260715T203000
SUMMARY:CG Bocce: Team 13 - Meola vs Team 7 - Dye
DESCRIPTION:Court: Court 1\nStatus: SCHEDULED
LOCATION:Court 1
STATUS:CONFIRMED
END:VEVENT
BEGIN:VEVENT
UID:bocce-match-cmoa33yzy00dpjxbdi4or6ai3@cgbocce.org
DTSTAMP:20260422T132432Z
DTSTART:20260723T183000
DTEND:20260723T203000
SUMMARY:CG Bocce: Team 13 - Meola vs Team 5 - Colistra
DESCRIPTION:Court: Court 1\nStatus: SCHEDULED
LOCATION:Court 1
STATUS:CONFIRMED
END:VEVENT
BEGIN:VEVENT
UID:bocce-match-cmoa33yzy00dzjxbdx0dqroix@cgbocce.org
DTSTAMP:20260422T132432Z
DTSTART:20260729T183000
DTEND:20260729T203000
SUMMARY:CG Bocce: Team 13 - Meola vs Team 3 - Brown
DESCRIPTION:Court: Court 2\nStatus: SCHEDULED
LOCATION:Court 2
STATUS:CONFIRMED
END:VEVENT
BEGIN:VEVENT
UID:bocce-match-cmoa33yzy00eejxbde4crblcv@cgbocce.org
DTSTAMP:20260422T132432Z
DTSTART:20260806T183000
DTEND:20260806T203000
SUMMARY:CG Bocce: Team 13 - Meola vs Team 20 - Vitale
DESCRIPTION:Court: Court 2\nStatus: SCHEDULED
LOCATION:Court 2
STATUS:CONFIRMED
END:VEVENT
BEGIN:VEVENT
UID:bocce-match-cmoa33yzz00epjxbdjpmxbk5u@cgbocce.org
DTSTAMP:20260422T132432Z
DTSTART:20260813T183000
DTEND:20260813T203000
SUMMARY:CG Bocce: Team 13 - Meola vs Team 18 - Stolz
DESCRIPTION:Court: Court 1\nStatus: SCHEDULED
LOCATION:Court 1
STATUS:CONFIRMED
END:VEVENT
BEGIN:VEVENT
UID:bocce-match-cmoa33yzz00f1jxbdlr0cfr9q@cgbocce.org
DTSTAMP:20260422T132432Z
DTSTART:20260820T183000
DTEND:20260820T203000
SUMMARY:CG Bocce: Team 13 - Meola vs Team 16 - Ring
DESCRIPTION:Court: Court 1\nStatus: SCHEDULED
LOCATION:Court 1
STATUS:CONFIRMED
END:VEVENT
BEGIN:VEVENT
UID:bocce-match-cmoa33yzz00fajxbdgq9xt8je@cgbocce.org
DTSTAMP:20260422T132432Z
DTSTART:20260826T183000
DTEND:20260826T203000
SUMMARY:CG Bocce: Team 13 - Meola vs Team 14 - Mongiello
DESCRIPTION:Court: Court 1\nStatus: SCHEDULED
LOCATION:Court 1
STATUS:CONFIRMED
END:VEVENT
BEGIN:VEVENT
UID:bocce-match-cmoa33yzz00frjxbdyeafn5eu@cgbocce.org
DTSTAMP:20260422T132432Z
DTSTART:20260903T183000
DTEND:20260903T203000
SUMMARY:CG Bocce: Team 12 - Marzullo vs Team 13 - Meola
DESCRIPTION:Court: Court 3\nStatus: SCHEDULED
LOCATION:Court 3
STATUS:CONFIRMED
END:VEVENT
END:VCALENDAR
