BEGIN:VCALENDAR
VERSION:2.0
PRODID:-//Cedar Grove Bocce//cgbocce.org//EN
CALSCALE:GREGORIAN
METHOD:PUBLISH
X-WR-CALNAME:Team 9 - Handel – Bocce Schedule
X-WR-CALDESC:Cedar Grove Bocce League schedule
X-PUBLISHED-TTL:PT1H
BEGIN:VEVENT
UID:bocce-match-cmoa33yzx00a4jxbd89kyjrw6@cgbocce.org
DTSTAMP:20260422T132432Z
DTSTART:20260507T183000
DTEND:20260507T203000
SUMMARY:CG Bocce: Team 9 - Handel vs Team 14 - Mongiello
DESCRIPTION:Court: Court 1\nStatus: SCHEDULED
LOCATION:Court 1
STATUS:CONFIRMED
END:VEVENT
BEGIN:VEVENT
UID:bocce-match-cmoa33yzx00agjxbdh8jhm494@cgbocce.org
DTSTAMP:20260422T132432Z
DTSTART:20260514T183000
DTEND:20260514T203000
SUMMARY:CG Bocce: Team 9 - Handel vs Team 12 - Marzullo
DESCRIPTION:Court: Court 1\nStatus: SCHEDULED
LOCATION:Court 1
STATUS:CONFIRMED
END:VEVENT
BEGIN:VEVENT
UID:bocce-match-cmoa33yzx00anjxbds3vthg32@cgbocce.org
DTSTAMP:20260422T132432Z
DTSTART:20260519T183000
DTEND:20260519T203000
SUMMARY:CG Bocce: Team 9 - Handel vs Team 10 - Horris
DESCRIPTION:Court: Court 2\nStatus: SCHEDULED
LOCATION:Court 2
STATUS:CONFIRMED
END:VEVENT
BEGIN:VEVENT
UID:bocce-match-cmoa33yzx00azjxbdgol54ya7@cgbocce.org
DTSTAMP:20260422T132432Z
DTSTART:20260527T183000
DTEND:20260527T203000
SUMMARY:CG Bocce: Team 8 - Gabriele vs Team 9 - Handel
DESCRIPTION:Court: Court 2\nStatus: SCHEDULED
LOCATION:Court 2
STATUS:CONFIRMED
END:VEVENT
BEGIN:VEVENT
UID:bocce-match-cmoa33yzx00b9jxbd0s417h8j@cgbocce.org
DTSTAMP:20260422T132432Z
DTSTART:20260602T183000
DTEND:20260602T203000
SUMMARY:CG Bocce: Team 6 - Criscione vs Team 9 - Handel
DESCRIPTION:Court: Court 3\nStatus: SCHEDULED
LOCATION:Court 3
STATUS:CONFIRMED
END:VEVENT
BEGIN:VEVENT
UID:bocce-match-cmoa33yzx00bgjxbd6crrg3v2@cgbocce.org
DTSTAMP:20260422T132432Z
DTSTART:20260608T183000
DTEND:20260608T203000
SUMMARY:CG Bocce: Team 4 - Cammarata vs Team 9 - Handel
DESCRIPTION:Court: Court 1\nStatus: SCHEDULED
LOCATION:Court 1
STATUS:CONFIRMED
END:VEVENT
BEGIN:VEVENT
UID:bocce-match-cmoa33yzy00bvjxbd3enft91i@cgbocce.org
DTSTAMP:20260422T132432Z
DTSTART:20260616T183000
DTEND:20260616T203000
SUMMARY:CG Bocce: Team 2 - Beauchamp vs Team 9 - Handel
DESCRIPTION:Court: Court 1\nStatus: SCHEDULED
LOCATION:Court 1
STATUS:CONFIRMED
END:VEVENT
BEGIN:VEVENT
UID:bocce-match-cmoa33yzy00c0jxbdbfjusid5@cgbocce.org
DTSTAMP:20260422T132432Z
DTSTART:20260617T183000
DTEND:20260617T203000
SUMMARY:CG Bocce: Team 21 - Zichelli vs Team 9 - Handel
DESCRIPTION:Court: Court 3\nStatus: SCHEDULED
LOCATION:Court 3
STATUS:CONFIRMED
END:VEVENT
BEGIN:VEVENT
UID:bocce-match-cmoa33yzy00cbjxbd4sky6c3a@cgbocce.org
DTSTAMP:20260422T132432Z
DTSTART:20260624T183000
DTEND:20260624T203000
SUMMARY:CG Bocce: Team 19 - Sullivan vs Team 9 - Handel
DESCRIPTION:Court: Court 2\nStatus: SCHEDULED
LOCATION:Court 2
STATUS:CONFIRMED
END:VEVENT
BEGIN:VEVENT
UID:bocce-match-cmoa33yzy00ckjxbdg2zdy4v1@cgbocce.org
DTSTAMP:20260422T132432Z
DTSTART:20260630T183000
DTEND:20260630T203000
SUMMARY:CG Bocce: Team 17 - Romaine vs Team 9 - Handel
DESCRIPTION:Court: Court 2\nStatus: SCHEDULED
LOCATION:Court 2
STATUS:CONFIRMED
END:VEVENT
BEGIN:VEVENT
UID:bocce-match-cmoa33yzy00cvjxbdq7jhvsu2@cgbocce.org
DTSTAMP:20260422T132432Z
DTSTART:20260707T183000
DTEND:20260707T203000
SUMMARY:CG Bocce: Team 15 - Pennisi vs Team 9 - Handel
DESCRIPTION:Court: Court 1\nStatus: SCHEDULED
LOCATION:Court 1
STATUS:CONFIRMED
END:VEVENT
BEGIN:VEVENT
UID:bocce-match-cmoa33yzy00d0jxbdrk99lcv2@cgbocce.org
DTSTAMP:20260422T132432Z
DTSTART:20260708T183000
DTEND:20260708T203000
SUMMARY:CG Bocce: Team 13 - Meola vs Team 9 - Handel
DESCRIPTION:Court: Court 3\nStatus: SCHEDULED
LOCATION:Court 3
STATUS:CONFIRMED
END:VEVENT
BEGIN:VEVENT
UID:bocce-match-cmoa33yzy00dcjxbd1rmo6z77@cgbocce.org
DTSTAMP:20260422T132432Z
DTSTART:20260715T183000
DTEND:20260715T203000
SUMMARY:CG Bocce: Team 11 - Maffettone vs Team 9 - Handel
DESCRIPTION:Court: Court 3\nStatus: SCHEDULED
LOCATION:Court 3
STATUS:CONFIRMED
END:VEVENT
BEGIN:VEVENT
UID:bocce-match-cmoa33yzy00dojxbdiiqywel0@cgbocce.org
DTSTAMP:20260422T132432Z
DTSTART:20260722T183000
DTEND:20260722T203000
SUMMARY:CG Bocce: Team 1 - Balassone vs Team 9 - Handel
DESCRIPTION:Court: Court 3\nStatus: SCHEDULED
LOCATION:Court 3
STATUS:CONFIRMED
END:VEVENT
BEGIN:VEVENT
UID:bocce-match-cmoa33yzy00dvjxbd7db5qwmf@cgbocce.org
DTSTAMP:20260422T132432Z
DTSTART:20260728T183000
DTEND:20260728T203000
SUMMARY:CG Bocce: Team 9 - Handel vs Team 7 - Dye
DESCRIPTION:Court: Court 1\nStatus: SCHEDULED
LOCATION:Court 1
STATUS:CONFIRMED
END:VEVENT
BEGIN:VEVENT
UID:bocce-match-cmoa33yzy00e6jxbdq9ainlfy@cgbocce.org
DTSTAMP:20260422T132432Z
DTSTART:20260803T183000
DTEND:20260803T203000
SUMMARY:CG Bocce: Team 9 - Handel vs Team 5 - Colistra
DESCRIPTION:Court: Court 3\nStatus: SCHEDULED
LOCATION:Court 3
STATUS:CONFIRMED
END:VEVENT
BEGIN:VEVENT
UID:bocce-match-cmoa33yzz00ejjxbdq3g7t3i2@cgbocce.org
DTSTAMP:20260422T132432Z
DTSTART:20260811T183000
DTEND:20260811T203000
SUMMARY:CG Bocce: Team 9 - Handel vs Team 3 - Brown
DESCRIPTION:Court: Court 1\nStatus: SCHEDULED
LOCATION:Court 1
STATUS:CONFIRMED
END:VEVENT
BEGIN:VEVENT
UID:bocce-match-cmoa33yzz00ezjxbdhpara81g@cgbocce.org
DTSTAMP:20260422T132432Z
DTSTART:20260819T183000
DTEND:20260819T203000
SUMMARY:CG Bocce: Team 9 - Handel vs Team 20 - Vitale
DESCRIPTION:Court: Court 2\nStatus: SCHEDULED
LOCATION:Court 2
STATUS:CONFIRMED
END:VEVENT
BEGIN:VEVENT
UID:bocce-match-cmoa33yzz00fbjxbdkue99ziq@cgbocce.org
DTSTAMP:20260422T132432Z
DTSTART:20260826T183000
DTEND:20260826T203000
SUMMARY:CG Bocce: Team 9 - Handel vs Team 18 - Stolz
DESCRIPTION:Court: Court 2\nStatus: SCHEDULED
LOCATION:Court 2
STATUS:CONFIRMED
END:VEVENT
BEGIN:VEVENT
UID:bocce-match-cmoa33yzz00fojxbdgm8mxt2r@cgbocce.org
DTSTAMP:20260422T132432Z
DTSTART:20260902T183000
DTEND:20260902T203000
SUMMARY:CG Bocce: Team 9 - Handel vs Team 16 - Ring
DESCRIPTION:Court: Court 3\nStatus: SCHEDULED
LOCATION:Court 3
STATUS:CONFIRMED
END:VEVENT
END:VCALENDAR
