BEGIN:VCALENDAR
VERSION:2.0
PRODID:-//Cedar Grove Bocce//cgbocce.org//EN
CALSCALE:GREGORIAN
METHOD:PUBLISH
X-WR-CALNAME:Team 6 - Criscione – Bocce Schedule
X-WR-CALDESC:Cedar Grove Bocce League schedule
X-PUBLISHED-TTL:PT1H
BEGIN:VEVENT
UID:bocce-match-cmoa33yzx00a2jxbd9jruqhpn@cgbocce.org
DTSTAMP:20260422T132432Z
DTSTART:20260506T183000
DTEND:20260506T203000
SUMMARY:CG Bocce: Team 6 - Criscione vs Team 17 - Romaine
DESCRIPTION:Court: Court 2\nStatus: SCHEDULED
LOCATION:Court 2
STATUS:CONFIRMED
END:VEVENT
BEGIN:VEVENT
UID:bocce-match-cmoa33yzx00adjxbd4my8x6sp@cgbocce.org
DTSTAMP:20260422T132432Z
DTSTART:20260513T183000
DTEND:20260513T203000
SUMMARY:CG Bocce: Team 6 - Criscione vs Team 15 - Pennisi
DESCRIPTION:Court: Court 1\nStatus: SCHEDULED
LOCATION:Court 1
STATUS:CONFIRMED
END:VEVENT
BEGIN:VEVENT
UID:bocce-match-cmoa33yzx00amjxbd9k3tq7m0@cgbocce.org
DTSTAMP:20260422T132432Z
DTSTART:20260519T183000
DTEND:20260519T203000
SUMMARY:CG Bocce: Team 6 - Criscione vs Team 13 - Meola
DESCRIPTION:Court: Court 1\nStatus: SCHEDULED
LOCATION:Court 1
STATUS:CONFIRMED
END:VEVENT
BEGIN:VEVENT
UID:bocce-match-cmoa33yzx00aujxbda7hgyg2n@cgbocce.org
DTSTAMP:20260422T132432Z
DTSTART:20260521T183000
DTEND:20260521T203000
SUMMARY:CG Bocce: Team 6 - Criscione vs Team 11 - Maffettone
DESCRIPTION:Court: Court 3\nStatus: SCHEDULED
LOCATION:Court 3
STATUS:CONFIRMED
END:VEVENT
BEGIN:VEVENT
UID:bocce-match-cmoa33yzx00b9jxbd0s417h8j@cgbocce.org
DTSTAMP:20260422T132432Z
DTSTART:20260602T183000
DTEND:20260602T203000
SUMMARY:CG Bocce: Team 6 - Criscione vs Team 9 - Handel
DESCRIPTION:Court: Court 3\nStatus: SCHEDULED
LOCATION:Court 3
STATUS:CONFIRMED
END:VEVENT
BEGIN:VEVENT
UID:bocce-match-cmoa33yzx00bljxbdzrvzc5kj@cgbocce.org
DTSTAMP:20260422T132432Z
DTSTART:20260609T183000
DTEND:20260609T203000
SUMMARY:CG Bocce: Team 6 - Criscione vs Team 7 - Dye
DESCRIPTION:Court: Court 3\nStatus: SCHEDULED
LOCATION:Court 3
STATUS:CONFIRMED
END:VEVENT
BEGIN:VEVENT
UID:bocce-match-cmoa33yzy00btjxbdxtunco5a@cgbocce.org
DTSTAMP:20260422T132432Z
DTSTART:20260615T183000
DTEND:20260615T203000
SUMMARY:CG Bocce: Team 5 - Colistra vs Team 6 - Criscione
DESCRIPTION:Court: Court 2\nStatus: SCHEDULED
LOCATION:Court 2
STATUS:CONFIRMED
END:VEVENT
BEGIN:VEVENT
UID:bocce-match-cmoa33yzy00c5jxbdkjxfstxi@cgbocce.org
DTSTAMP:20260422T132432Z
DTSTART:20260622T183000
DTEND:20260622T203000
SUMMARY:CG Bocce: Team 3 - Brown vs Team 6 - Criscione
DESCRIPTION:Court: Court 2\nStatus: SCHEDULED
LOCATION:Court 2
STATUS:CONFIRMED
END:VEVENT
BEGIN:VEVENT
UID:bocce-match-cmoa33yzy00cnjxbd78c88xiu@cgbocce.org
DTSTAMP:20260422T132432Z
DTSTART:20260701T183000
DTEND:20260701T203000
SUMMARY:CG Bocce: Team 20 - Vitale vs Team 6 - Criscione
DESCRIPTION:Court: Court 2\nStatus: SCHEDULED
LOCATION:Court 2
STATUS:CONFIRMED
END:VEVENT
BEGIN:VEVENT
UID:bocce-match-cmoa33yzy00ctjxbd1lm2dqkl@cgbocce.org
DTSTAMP:20260422T132432Z
DTSTART:20260706T183000
DTEND:20260706T203000
SUMMARY:CG Bocce: Team 18 - Stolz vs Team 6 - Criscione
DESCRIPTION:Court: Court 2\nStatus: SCHEDULED
LOCATION:Court 2
STATUS:CONFIRMED
END:VEVENT
BEGIN:VEVENT
UID:bocce-match-cmoa33yzy00d8jxbdervkx42p@cgbocce.org
DTSTAMP:20260422T132432Z
DTSTART:20260714T183000
DTEND:20260714T203000
SUMMARY:CG Bocce: Team 16 - Ring vs Team 6 - Criscione
DESCRIPTION:Court: Court 2\nStatus: SCHEDULED
LOCATION:Court 2
STATUS:CONFIRMED
END:VEVENT
BEGIN:VEVENT
UID:bocce-match-cmoa33yzy00dijxbd59bezspo@cgbocce.org
DTSTAMP:20260422T132432Z
DTSTART:20260720T183000
DTEND:20260720T203000
SUMMARY:CG Bocce: Team 14 - Mongiello vs Team 6 - Criscione
DESCRIPTION:Court: Court 3\nStatus: SCHEDULED
LOCATION:Court 3
STATUS:CONFIRMED
END:VEVENT
BEGIN:VEVENT
UID:bocce-match-cmoa33yzy00dsjxbdhrgdk89x@cgbocce.org
DTSTAMP:20260422T132432Z
DTSTART:20260727T183000
DTEND:20260727T203000
SUMMARY:CG Bocce: Team 12 - Marzullo vs Team 6 - Criscione
DESCRIPTION:Court: Court 1\nStatus: SCHEDULED
LOCATION:Court 1
STATUS:CONFIRMED
END:VEVENT
BEGIN:VEVENT
UID:bocce-match-cmoa33yzy00dwjxbd07upfvec@cgbocce.org
DTSTAMP:20260422T132432Z
DTSTART:20260728T183000
DTEND:20260728T203000
SUMMARY:CG Bocce: Team 10 - Horris vs Team 6 - Criscione
DESCRIPTION:Court: Court 2\nStatus: SCHEDULED
LOCATION:Court 2
STATUS:CONFIRMED
END:VEVENT
BEGIN:VEVENT
UID:bocce-match-cmoa33yzy00e5jxbdxqb4xbfb@cgbocce.org
DTSTAMP:20260422T132432Z
DTSTART:20260803T183000
DTEND:20260803T203000
SUMMARY:CG Bocce: Team 8 - Gabriele vs Team 6 - Criscione
DESCRIPTION:Court: Court 2\nStatus: SCHEDULED
LOCATION:Court 2
STATUS:CONFIRMED
END:VEVENT
BEGIN:VEVENT
UID:bocce-match-cmoa33yzz00emjxbdgvo1tvy0@cgbocce.org
DTSTAMP:20260422T132432Z
DTSTART:20260812T183000
DTEND:20260812T203000
SUMMARY:CG Bocce: Team 1 - Balassone vs Team 6 - Criscione
DESCRIPTION:Court: Court 1\nStatus: SCHEDULED
LOCATION:Court 1
STATUS:CONFIRMED
END:VEVENT
BEGIN:VEVENT
UID:bocce-match-cmoa33yzz00etjxbda9fhulkb@cgbocce.org
DTSTAMP:20260422T132432Z
DTSTART:20260817T183000
DTEND:20260817T203000
SUMMARY:CG Bocce: Team 6 - Criscione vs Team 4 - Cammarata
DESCRIPTION:Court: Court 2\nStatus: SCHEDULED
LOCATION:Court 2
STATUS:CONFIRMED
END:VEVENT
BEGIN:VEVENT
UID:bocce-match-cmoa33yzz00f4jxbd7aggq3w9@cgbocce.org
DTSTAMP:20260422T132432Z
DTSTART:20260824T183000
DTEND:20260824T203000
SUMMARY:CG Bocce: Team 6 - Criscione vs Team 2 - Beauchamp
DESCRIPTION:Court: Court 1\nStatus: SCHEDULED
LOCATION:Court 1
STATUS:CONFIRMED
END:VEVENT
BEGIN:VEVENT
UID:bocce-match-cmoa33yzz00fgjxbdjgka1yh4@cgbocce.org
DTSTAMP:20260422T132432Z
DTSTART:20260831T183000
DTEND:20260831T203000
SUMMARY:CG Bocce: Team 6 - Criscione vs Team 21 - Zichelli
DESCRIPTION:Court: Court 1\nStatus: SCHEDULED
LOCATION:Court 1
STATUS:CONFIRMED
END:VEVENT
BEGIN:VEVENT
UID:bocce-match-cmoa33yzz00fljxbd7y5hfr8b@cgbocce.org
DTSTAMP:20260422T132432Z
DTSTART:20260901T183000
DTEND:20260901T203000
SUMMARY:CG Bocce: Team 6 - Criscione vs Team 19 - Sullivan
DESCRIPTION:Court: Court 3\nStatus: SCHEDULED
LOCATION:Court 3
STATUS:CONFIRMED
END:VEVENT
END:VCALENDAR
