BEGIN:VCALENDAR
VERSION:2.0
PRODID:-//Cedar Grove Bocce//cgbocce.org//EN
CALSCALE:GREGORIAN
METHOD:PUBLISH
X-WR-CALNAME:Team 5 - Colistra – Bocce Schedule
X-WR-CALDESC:Cedar Grove Bocce League schedule
X-PUBLISHED-TTL:PT1H
BEGIN:VEVENT
UID:bocce-match-cmoa33yzx00a1jxbd8e5qxii4@cgbocce.org
DTSTAMP:20260422T132432Z
DTSTART:20260506T183000
DTEND:20260506T203000
SUMMARY:CG Bocce: Team 5 - Colistra vs Team 18 - Stolz
DESCRIPTION:Court: Court 1\nStatus: SCHEDULED
LOCATION:Court 1
STATUS:CONFIRMED
END:VEVENT
BEGIN:VEVENT
UID:bocce-match-cmoa33yzx00acjxbduky2iab1@cgbocce.org
DTSTAMP:20260422T132432Z
DTSTART:20260512T183000
DTEND:20260512T203000
SUMMARY:CG Bocce: Team 5 - Colistra vs Team 16 - Ring
DESCRIPTION:Court: Court 3\nStatus: SCHEDULED
LOCATION:Court 3
STATUS:CONFIRMED
END:VEVENT
BEGIN:VEVENT
UID:bocce-match-cmoa33yzx00akjxbdlc5yajz3@cgbocce.org
DTSTAMP:20260422T132432Z
DTSTART:20260518T183000
DTEND:20260518T203000
SUMMARY:CG Bocce: Team 5 - Colistra vs Team 14 - Mongiello
DESCRIPTION:Court: Court 2\nStatus: SCHEDULED
LOCATION:Court 2
STATUS:CONFIRMED
END:VEVENT
BEGIN:VEVENT
UID:bocce-match-cmoa33yzx00ayjxbdzzm7d23k@cgbocce.org
DTSTAMP:20260422T132432Z
DTSTART:20260527T183000
DTEND:20260527T203000
SUMMARY:CG Bocce: Team 5 - Colistra vs Team 12 - Marzullo
DESCRIPTION:Court: Court 1\nStatus: SCHEDULED
LOCATION:Court 1
STATUS:CONFIRMED
END:VEVENT
BEGIN:VEVENT
UID:bocce-match-cmoa33yzx00b4jxbdh82sp24p@cgbocce.org
DTSTAMP:20260422T132432Z
DTSTART:20260601T183000
DTEND:20260601T203000
SUMMARY:CG Bocce: Team 5 - Colistra vs Team 10 - Horris
DESCRIPTION:Court: Court 1\nStatus: SCHEDULED
LOCATION:Court 1
STATUS:CONFIRMED
END:VEVENT
BEGIN:VEVENT
UID:bocce-match-cmoa33yzx00bjjxbdgyucts96@cgbocce.org
DTSTAMP:20260422T132432Z
DTSTART:20260609T183000
DTEND:20260609T203000
SUMMARY:CG Bocce: Team 5 - Colistra vs Team 8 - Gabriele
DESCRIPTION:Court: Court 1\nStatus: SCHEDULED
LOCATION:Court 1
STATUS:CONFIRMED
END:VEVENT
BEGIN:VEVENT
UID:bocce-match-cmoa33yzy00btjxbdxtunco5a@cgbocce.org
DTSTAMP:20260422T132432Z
DTSTART:20260615T183000
DTEND:20260615T203000
SUMMARY:CG Bocce: Team 5 - Colistra vs Team 6 - Criscione
DESCRIPTION:Court: Court 2\nStatus: SCHEDULED
LOCATION:Court 2
STATUS:CONFIRMED
END:VEVENT
BEGIN:VEVENT
UID:bocce-match-cmoa33yzy00c4jxbdwp2knqvb@cgbocce.org
DTSTAMP:20260422T132432Z
DTSTART:20260622T183000
DTEND:20260622T203000
SUMMARY:CG Bocce: Team 4 - Cammarata vs Team 5 - Colistra
DESCRIPTION:Court: Court 1\nStatus: SCHEDULED
LOCATION:Court 1
STATUS:CONFIRMED
END:VEVENT
BEGIN:VEVENT
UID:bocce-match-cmoa33yzy00cejxbd3jz7sjlu@cgbocce.org
DTSTAMP:20260422T132432Z
DTSTART:20260625T183000
DTEND:20260625T203000
SUMMARY:CG Bocce: Team 2 - Beauchamp vs Team 5 - Colistra
DESCRIPTION:Court: Court 2\nStatus: SCHEDULED
LOCATION:Court 2
STATUS:CONFIRMED
END:VEVENT
BEGIN:VEVENT
UID:bocce-match-cmoa33yzy00cojxbdybcj0yux@cgbocce.org
DTSTAMP:20260422T132432Z
DTSTART:20260701T183000
DTEND:20260701T203000
SUMMARY:CG Bocce: Team 21 - Zichelli vs Team 5 - Colistra
DESCRIPTION:Court: Court 3\nStatus: SCHEDULED
LOCATION:Court 3
STATUS:CONFIRMED
END:VEVENT
BEGIN:VEVENT
UID:bocce-match-cmoa33yzy00czjxbdhpuluhgg@cgbocce.org
DTSTAMP:20260422T132432Z
DTSTART:20260708T183000
DTEND:20260708T203000
SUMMARY:CG Bocce: Team 19 - Sullivan vs Team 5 - Colistra
DESCRIPTION:Court: Court 2\nStatus: SCHEDULED
LOCATION:Court 2
STATUS:CONFIRMED
END:VEVENT
BEGIN:VEVENT
UID:bocce-match-cmoa33yzy00d9jxbd3nnltiun@cgbocce.org
DTSTAMP:20260422T132432Z
DTSTART:20260714T183000
DTEND:20260714T203000
SUMMARY:CG Bocce: Team 17 - Romaine vs Team 5 - Colistra
DESCRIPTION:Court: Court 3\nStatus: SCHEDULED
LOCATION:Court 3
STATUS:CONFIRMED
END:VEVENT
BEGIN:VEVENT
UID:bocce-match-cmoa33yzy00dgjxbdxwfkhfnw@cgbocce.org
DTSTAMP:20260422T132432Z
DTSTART:20260720T183000
DTEND:20260720T203000
SUMMARY:CG Bocce: Team 15 - Pennisi vs Team 5 - Colistra
DESCRIPTION:Court: Court 1\nStatus: SCHEDULED
LOCATION:Court 1
STATUS:CONFIRMED
END:VEVENT
BEGIN:VEVENT
UID:bocce-match-cmoa33yzy00dpjxbdi4or6ai3@cgbocce.org
DTSTAMP:20260422T132432Z
DTSTART:20260723T183000
DTEND:20260723T203000
SUMMARY:CG Bocce: Team 13 - Meola vs Team 5 - Colistra
DESCRIPTION:Court: Court 1\nStatus: SCHEDULED
LOCATION:Court 1
STATUS:CONFIRMED
END:VEVENT
BEGIN:VEVENT
UID:bocce-match-cmoa33yzy00dxjxbd0bl8yp6f@cgbocce.org
DTSTAMP:20260422T132432Z
DTSTART:20260728T183000
DTEND:20260728T203000
SUMMARY:CG Bocce: Team 11 - Maffettone vs Team 5 - Colistra
DESCRIPTION:Court: Court 3\nStatus: SCHEDULED
LOCATION:Court 3
STATUS:CONFIRMED
END:VEVENT
BEGIN:VEVENT
UID:bocce-match-cmoa33yzy00e6jxbdq9ainlfy@cgbocce.org
DTSTAMP:20260422T132432Z
DTSTART:20260803T183000
DTEND:20260803T203000
SUMMARY:CG Bocce: Team 9 - Handel vs Team 5 - Colistra
DESCRIPTION:Court: Court 3\nStatus: SCHEDULED
LOCATION:Court 3
STATUS:CONFIRMED
END:VEVENT
BEGIN:VEVENT
UID:bocce-match-cmoa33yzz00enjxbdab81sqdt@cgbocce.org
DTSTAMP:20260422T132432Z
DTSTART:20260812T183000
DTEND:20260812T203000
SUMMARY:CG Bocce: Team 7 - Dye vs Team 5 - Colistra
DESCRIPTION:Court: Court 2\nStatus: SCHEDULED
LOCATION:Court 2
STATUS:CONFIRMED
END:VEVENT
BEGIN:VEVENT
UID:bocce-match-cmoa33yzz00exjxbd5sjsb2gy@cgbocce.org
DTSTAMP:20260422T132432Z
DTSTART:20260818T183000
DTEND:20260818T203000
SUMMARY:CG Bocce: Team 1 - Balassone vs Team 5 - Colistra
DESCRIPTION:Court: Court 3\nStatus: SCHEDULED
LOCATION:Court 3
STATUS:CONFIRMED
END:VEVENT
BEGIN:VEVENT
UID:bocce-match-cmoa33yzz00f7jxbdb7rfosd6@cgbocce.org
DTSTAMP:20260422T132432Z
DTSTART:20260825T183000
DTEND:20260825T203000
SUMMARY:CG Bocce: Team 5 - Colistra vs Team 3 - Brown
DESCRIPTION:Court: Court 1\nStatus: SCHEDULED
LOCATION:Court 1
STATUS:CONFIRMED
END:VEVENT
BEGIN:VEVENT
UID:bocce-match-cmoa33yzz00fijxbdsc6ezx0r@cgbocce.org
DTSTAMP:20260422T132432Z
DTSTART:20260831T183000
DTEND:20260831T203000
SUMMARY:CG Bocce: Team 5 - Colistra vs Team 20 - Vitale
DESCRIPTION:Court: Court 3\nStatus: SCHEDULED
LOCATION:Court 3
STATUS:CONFIRMED
END:VEVENT
END:VCALENDAR
