BEGIN:VCALENDAR
VERSION:2.0
PRODID:-//Cedar Grove Bocce//cgbocce.org//EN
CALSCALE:GREGORIAN
METHOD:PUBLISH
X-WR-CALNAME:Team 2 - Beauchamp – Bocce Schedule
X-WR-CALDESC:Cedar Grove Bocce League schedule
X-PUBLISHED-TTL:PT1H
BEGIN:VEVENT
UID:bocce-match-cmoa33yzx00a3jxbdcekjft3v@cgbocce.org
DTSTAMP:20260422T132432Z
DTSTART:20260506T183000
DTEND:20260506T203000
SUMMARY:CG Bocce: Team 2 - Beauchamp vs Team 21 - Zichelli
DESCRIPTION:Court: Court 3\nStatus: SCHEDULED
LOCATION:Court 3
STATUS:CONFIRMED
END:VEVENT
BEGIN:VEVENT
UID:bocce-match-cmoa33yzx00a9jxbdy0mu2aep@cgbocce.org
DTSTAMP:20260422T132432Z
DTSTART:20260511T183000
DTEND:20260511T203000
SUMMARY:CG Bocce: Team 2 - Beauchamp vs Team 19 - Sullivan
DESCRIPTION:Court: Court 3\nStatus: SCHEDULED
LOCATION:Court 3
STATUS:CONFIRMED
END:VEVENT
BEGIN:VEVENT
UID:bocce-match-cmoa33yzx00arjxbd62ezrtlp@cgbocce.org
DTSTAMP:20260422T132432Z
DTSTART:20260520T183000
DTEND:20260520T203000
SUMMARY:CG Bocce: Team 2 - Beauchamp vs Team 17 - Romaine
DESCRIPTION:Court: Court 3\nStatus: SCHEDULED
LOCATION:Court 3
STATUS:CONFIRMED
END:VEVENT
BEGIN:VEVENT
UID:bocce-match-cmoa33yzx00awjxbdy1okha8b@cgbocce.org
DTSTAMP:20260422T132432Z
DTSTART:20260526T183000
DTEND:20260526T203000
SUMMARY:CG Bocce: Team 2 - Beauchamp vs Team 15 - Pennisi
DESCRIPTION:Court: Court 2\nStatus: SCHEDULED
LOCATION:Court 2
STATUS:CONFIRMED
END:VEVENT
BEGIN:VEVENT
UID:bocce-match-cmoa33yzx00b6jxbdc26y29ws@cgbocce.org
DTSTAMP:20260422T132432Z
DTSTART:20260601T183000
DTEND:20260601T203000
SUMMARY:CG Bocce: Team 2 - Beauchamp vs Team 13 - Meola
DESCRIPTION:Court: Court 3\nStatus: SCHEDULED
LOCATION:Court 3
STATUS:CONFIRMED
END:VEVENT
BEGIN:VEVENT
UID:bocce-match-cmoa33yzx00bkjxbdk33ba2sk@cgbocce.org
DTSTAMP:20260422T132432Z
DTSTART:20260609T183000
DTEND:20260609T203000
SUMMARY:CG Bocce: Team 2 - Beauchamp vs Team 11 - Maffettone
DESCRIPTION:Court: Court 2\nStatus: SCHEDULED
LOCATION:Court 2
STATUS:CONFIRMED
END:VEVENT
BEGIN:VEVENT
UID:bocce-match-cmoa33yzy00bvjxbd3enft91i@cgbocce.org
DTSTAMP:20260422T132432Z
DTSTART:20260616T183000
DTEND:20260616T203000
SUMMARY:CG Bocce: Team 2 - Beauchamp vs Team 9 - Handel
DESCRIPTION:Court: Court 1\nStatus: SCHEDULED
LOCATION:Court 1
STATUS:CONFIRMED
END:VEVENT
BEGIN:VEVENT
UID:bocce-match-cmoa33yzy00c2jxbd7zyex05b@cgbocce.org
DTSTAMP:20260422T132432Z
DTSTART:20260618T183000
DTEND:20260618T203000
SUMMARY:CG Bocce: Team 2 - Beauchamp vs Team 7 - Dye
DESCRIPTION:Court: Court 2\nStatus: SCHEDULED
LOCATION:Court 2
STATUS:CONFIRMED
END:VEVENT
BEGIN:VEVENT
UID:bocce-match-cmoa33yzy00cejxbd3jz7sjlu@cgbocce.org
DTSTAMP:20260422T132432Z
DTSTART:20260625T183000
DTEND:20260625T203000
SUMMARY:CG Bocce: Team 2 - Beauchamp vs Team 5 - Colistra
DESCRIPTION:Court: Court 2\nStatus: SCHEDULED
LOCATION:Court 2
STATUS:CONFIRMED
END:VEVENT
BEGIN:VEVENT
UID:bocce-match-cmoa33yzy00cpjxbdwlqhvyxs@cgbocce.org
DTSTAMP:20260422T132432Z
DTSTART:20260702T183000
DTEND:20260702T203000
SUMMARY:CG Bocce: Team 2 - Beauchamp vs Team 3 - Brown
DESCRIPTION:Court: Court 1\nStatus: SCHEDULED
LOCATION:Court 1
STATUS:CONFIRMED
END:VEVENT
BEGIN:VEVENT
UID:bocce-match-cmoa33yzy00d2jxbdl7hpylwy@cgbocce.org
DTSTAMP:20260422T132432Z
DTSTART:20260709T183000
DTEND:20260709T203000
SUMMARY:CG Bocce: Team 20 - Vitale vs Team 2 - Beauchamp
DESCRIPTION:Court: Court 2\nStatus: SCHEDULED
LOCATION:Court 2
STATUS:CONFIRMED
END:VEVENT
BEGIN:VEVENT
UID:bocce-match-cmoa33yzy00dbjxbdq8wyuctp@cgbocce.org
DTSTAMP:20260422T132432Z
DTSTART:20260715T183000
DTEND:20260715T203000
SUMMARY:CG Bocce: Team 18 - Stolz vs Team 2 - Beauchamp
DESCRIPTION:Court: Court 2\nStatus: SCHEDULED
LOCATION:Court 2
STATUS:CONFIRMED
END:VEVENT
BEGIN:VEVENT
UID:bocce-match-cmoa33yzy00dljxbdy4uujcjc@cgbocce.org
DTSTAMP:20260422T132432Z
DTSTART:20260721T183000
DTEND:20260721T203000
SUMMARY:CG Bocce: Team 16 - Ring vs Team 2 - Beauchamp
DESCRIPTION:Court: Court 3\nStatus: SCHEDULED
LOCATION:Court 3
STATUS:CONFIRMED
END:VEVENT
BEGIN:VEVENT
UID:bocce-match-cmoa33yzy00e0jxbd71r7arpj@cgbocce.org
DTSTAMP:20260422T132432Z
DTSTART:20260729T183000
DTEND:20260729T203000
SUMMARY:CG Bocce: Team 14 - Mongiello vs Team 2 - Beauchamp
DESCRIPTION:Court: Court 3\nStatus: SCHEDULED
LOCATION:Court 3
STATUS:CONFIRMED
END:VEVENT
BEGIN:VEVENT
UID:bocce-match-cmoa33yzy00e9jxbdoh4cx003@cgbocce.org
DTSTAMP:20260422T132432Z
DTSTART:20260804T183000
DTEND:20260804T203000
SUMMARY:CG Bocce: Team 12 - Marzullo vs Team 2 - Beauchamp
DESCRIPTION:Court: Court 3\nStatus: SCHEDULED
LOCATION:Court 3
STATUS:CONFIRMED
END:VEVENT
BEGIN:VEVENT
UID:bocce-match-cmoa33yzz00ekjxbdge2e5zrk@cgbocce.org
DTSTAMP:20260422T132432Z
DTSTART:20260811T183000
DTEND:20260811T203000
SUMMARY:CG Bocce: Team 10 - Horris vs Team 2 - Beauchamp
DESCRIPTION:Court: Court 2\nStatus: SCHEDULED
LOCATION:Court 2
STATUS:CONFIRMED
END:VEVENT
BEGIN:VEVENT
UID:bocce-match-cmoa33yzz00eujxbdde9ykbvo@cgbocce.org
DTSTAMP:20260422T132432Z
DTSTART:20260817T183000
DTEND:20260817T203000
SUMMARY:CG Bocce: Team 8 - Gabriele vs Team 2 - Beauchamp
DESCRIPTION:Court: Court 3\nStatus: SCHEDULED
LOCATION:Court 3
STATUS:CONFIRMED
END:VEVENT
BEGIN:VEVENT
UID:bocce-match-cmoa33yzz00f4jxbd7aggq3w9@cgbocce.org
DTSTAMP:20260422T132432Z
DTSTART:20260824T183000
DTEND:20260824T203000
SUMMARY:CG Bocce: Team 6 - Criscione vs Team 2 - Beauchamp
DESCRIPTION:Court: Court 1\nStatus: SCHEDULED
LOCATION:Court 1
STATUS:CONFIRMED
END:VEVENT
BEGIN:VEVENT
UID:bocce-match-cmoa33yzz00ffjxbdkduyayv6@cgbocce.org
DTSTAMP:20260422T132432Z
DTSTART:20260827T183000
DTEND:20260827T203000
SUMMARY:CG Bocce: Team 4 - Cammarata vs Team 2 - Beauchamp
DESCRIPTION:Court: Court 3\nStatus: SCHEDULED
LOCATION:Court 3
STATUS:CONFIRMED
END:VEVENT
BEGIN:VEVENT
UID:bocce-match-cmoa33yzz00fkjxbd7zycwu0u@cgbocce.org
DTSTAMP:20260422T132432Z
DTSTART:20260901T183000
DTEND:20260901T203000
SUMMARY:CG Bocce: Team 1 - Balassone vs Team 2 - Beauchamp
DESCRIPTION:Court: Court 2\nStatus: SCHEDULED
LOCATION:Court 2
STATUS:CONFIRMED
END:VEVENT
END:VCALENDAR
