BEGIN:VCALENDAR
VERSION:2.0
PRODID:-//Cedar Grove Bocce//cgbocce.org//EN
CALSCALE:GREGORIAN
METHOD:PUBLISH
X-WR-CALNAME:Team 1 - Balassone – Bocce Schedule
X-WR-CALDESC:Cedar Grove Bocce League schedule
X-PUBLISHED-TTL:PT1H
BEGIN:VEVENT
UID:bocce-match-cmoa33yzx00a8jxbdbssdj2dn@cgbocce.org
DTSTAMP:20260422T132432Z
DTSTART:20260511T183000
DTEND:20260511T203000
SUMMARY:CG Bocce: Team 1 - Balassone vs Team 21 - Zichelli
DESCRIPTION:Court: Court 2\nStatus: SCHEDULED
LOCATION:Court 2
STATUS:CONFIRMED
END:VEVENT
BEGIN:VEVENT
UID:bocce-match-cmoa33yzx00aijxbdjeheskuv@cgbocce.org
DTSTAMP:20260422T132432Z
DTSTART:20260514T183000
DTEND:20260514T203000
SUMMARY:CG Bocce: Team 1 - Balassone vs Team 20 - Vitale
DESCRIPTION:Court: Court 3\nStatus: SCHEDULED
LOCATION:Court 3
STATUS:CONFIRMED
END:VEVENT
BEGIN:VEVENT
UID:bocce-match-cmoa33yzx00asjxbdfmqrsh8i@cgbocce.org
DTSTAMP:20260422T132432Z
DTSTART:20260521T183000
DTEND:20260521T203000
SUMMARY:CG Bocce: Team 1 - Balassone vs Team 19 - Sullivan
DESCRIPTION:Court: Court 1\nStatus: SCHEDULED
LOCATION:Court 1
STATUS:CONFIRMED
END:VEVENT
BEGIN:VEVENT
UID:bocce-match-cmoa33yzx00b3jxbdclyuowgi@cgbocce.org
DTSTAMP:20260422T132432Z
DTSTART:20260528T183000
DTEND:20260528T203000
SUMMARY:CG Bocce: Team 1 - Balassone vs Team 18 - Stolz
DESCRIPTION:Court: Court 3\nStatus: SCHEDULED
LOCATION:Court 3
STATUS:CONFIRMED
END:VEVENT
BEGIN:VEVENT
UID:bocce-match-cmoa33yzx00bdjxbdzoqddra4@cgbocce.org
DTSTAMP:20260422T132432Z
DTSTART:20260604T183000
DTEND:20260604T203000
SUMMARY:CG Bocce: Team 1 - Balassone vs Team 17 - Romaine
DESCRIPTION:Court: Court 1\nStatus: SCHEDULED
LOCATION:Court 1
STATUS:CONFIRMED
END:VEVENT
BEGIN:VEVENT
UID:bocce-match-cmoa33yzx00bojxbdqimn2158@cgbocce.org
DTSTAMP:20260422T132432Z
DTSTART:20260610T183000
DTEND:20260610T203000
SUMMARY:CG Bocce: Team 1 - Balassone vs Team 16 - Ring
DESCRIPTION:Court: Court 3\nStatus: SCHEDULED
LOCATION:Court 3
STATUS:CONFIRMED
END:VEVENT
BEGIN:VEVENT
UID:bocce-match-cmoa33yzy00c3jxbdts9dt5qc@cgbocce.org
DTSTAMP:20260422T132432Z
DTSTART:20260618T183000
DTEND:20260618T203000
SUMMARY:CG Bocce: Team 1 - Balassone vs Team 15 - Pennisi
DESCRIPTION:Court: Court 3\nStatus: SCHEDULED
LOCATION:Court 3
STATUS:CONFIRMED
END:VEVENT
BEGIN:VEVENT
UID:bocce-match-cmoa33yzy00c6jxbdbjf1s3oh@cgbocce.org
DTSTAMP:20260422T132432Z
DTSTART:20260622T183000
DTEND:20260622T203000
SUMMARY:CG Bocce: Team 1 - Balassone vs Team 14 - Mongiello
DESCRIPTION:Court: Court 3\nStatus: SCHEDULED
LOCATION:Court 3
STATUS:CONFIRMED
END:VEVENT
BEGIN:VEVENT
UID:bocce-match-cmoa33yzy00cgjxbdusgg0zvw@cgbocce.org
DTSTAMP:20260422T132432Z
DTSTART:20260629T183000
DTEND:20260629T203000
SUMMARY:CG Bocce: Team 1 - Balassone vs Team 13 - Meola
DESCRIPTION:Court: Court 1\nStatus: SCHEDULED
LOCATION:Court 1
STATUS:CONFIRMED
END:VEVENT
BEGIN:VEVENT
UID:bocce-match-cmoa33yzy00cwjxbdtzrbe052@cgbocce.org
DTSTAMP:20260422T132432Z
DTSTART:20260707T183000
DTEND:20260707T203000
SUMMARY:CG Bocce: Team 1 - Balassone vs Team 12 - Marzullo
DESCRIPTION:Court: Court 2\nStatus: SCHEDULED
LOCATION:Court 2
STATUS:CONFIRMED
END:VEVENT
BEGIN:VEVENT
UID:bocce-match-cmoa33yzy00d3jxbdatfktq81@cgbocce.org
DTSTAMP:20260422T132432Z
DTSTART:20260709T183000
DTEND:20260709T203000
SUMMARY:CG Bocce: Team 1 - Balassone vs Team 11 - Maffettone
DESCRIPTION:Court: Court 3\nStatus: SCHEDULED
LOCATION:Court 3
STATUS:CONFIRMED
END:VEVENT
BEGIN:VEVENT
UID:bocce-match-cmoa33yzy00dejxbdzm1djngz@cgbocce.org
DTSTAMP:20260422T132432Z
DTSTART:20260716T183000
DTEND:20260716T203000
SUMMARY:CG Bocce: Team 1 - Balassone vs Team 10 - Horris
DESCRIPTION:Court: Court 2\nStatus: SCHEDULED
LOCATION:Court 2
STATUS:CONFIRMED
END:VEVENT
BEGIN:VEVENT
UID:bocce-match-cmoa33yzy00dojxbdiiqywel0@cgbocce.org
DTSTAMP:20260422T132432Z
DTSTART:20260722T183000
DTEND:20260722T203000
SUMMARY:CG Bocce: Team 1 - Balassone vs Team 9 - Handel
DESCRIPTION:Court: Court 3\nStatus: SCHEDULED
LOCATION:Court 3
STATUS:CONFIRMED
END:VEVENT
BEGIN:VEVENT
UID:bocce-match-cmoa33yzy00dujxbde0xuibos@cgbocce.org
DTSTAMP:20260422T132432Z
DTSTART:20260727T183000
DTEND:20260727T203000
SUMMARY:CG Bocce: Team 1 - Balassone vs Team 8 - Gabriele
DESCRIPTION:Court: Court 3\nStatus: SCHEDULED
LOCATION:Court 3
STATUS:CONFIRMED
END:VEVENT
BEGIN:VEVENT
UID:bocce-match-cmoa33yzy00e4jxbd2lk5crwn@cgbocce.org
DTSTAMP:20260422T132432Z
DTSTART:20260803T183000
DTEND:20260803T203000
SUMMARY:CG Bocce: Team 1 - Balassone vs Team 7 - Dye
DESCRIPTION:Court: Court 1\nStatus: SCHEDULED
LOCATION:Court 1
STATUS:CONFIRMED
END:VEVENT
BEGIN:VEVENT
UID:bocce-match-cmoa33yzz00emjxbdgvo1tvy0@cgbocce.org
DTSTAMP:20260422T132432Z
DTSTART:20260812T183000
DTEND:20260812T203000
SUMMARY:CG Bocce: Team 1 - Balassone vs Team 6 - Criscione
DESCRIPTION:Court: Court 1\nStatus: SCHEDULED
LOCATION:Court 1
STATUS:CONFIRMED
END:VEVENT
BEGIN:VEVENT
UID:bocce-match-cmoa33yzz00exjxbd5sjsb2gy@cgbocce.org
DTSTAMP:20260422T132432Z
DTSTART:20260818T183000
DTEND:20260818T203000
SUMMARY:CG Bocce: Team 1 - Balassone vs Team 5 - Colistra
DESCRIPTION:Court: Court 3\nStatus: SCHEDULED
LOCATION:Court 3
STATUS:CONFIRMED
END:VEVENT
BEGIN:VEVENT
UID:bocce-match-cmoa33yzz00f6jxbd0p1v86hd@cgbocce.org
DTSTAMP:20260422T132432Z
DTSTART:20260824T183000
DTEND:20260824T203000
SUMMARY:CG Bocce: Team 1 - Balassone vs Team 4 - Cammarata
DESCRIPTION:Court: Court 3\nStatus: SCHEDULED
LOCATION:Court 3
STATUS:CONFIRMED
END:VEVENT
BEGIN:VEVENT
UID:bocce-match-cmoa33yzz00fhjxbd0pbx8g5r@cgbocce.org
DTSTAMP:20260422T132432Z
DTSTART:20260831T183000
DTEND:20260831T203000
SUMMARY:CG Bocce: Team 1 - Balassone vs Team 3 - Brown
DESCRIPTION:Court: Court 2\nStatus: SCHEDULED
LOCATION:Court 2
STATUS:CONFIRMED
END:VEVENT
BEGIN:VEVENT
UID:bocce-match-cmoa33yzz00fkjxbd7zycwu0u@cgbocce.org
DTSTAMP:20260422T132432Z
DTSTART:20260901T183000
DTEND:20260901T203000
SUMMARY:CG Bocce: Team 1 - Balassone vs Team 2 - Beauchamp
DESCRIPTION:Court: Court 2\nStatus: SCHEDULED
LOCATION:Court 2
STATUS:CONFIRMED
END:VEVENT
END:VCALENDAR
